BEGIN:VCALENDAR
VERSION:2.0
PRODID:-//AA Sur De La Bahia - ECPv6.15.16//NONSGML v1.0//EN
CALSCALE:GREGORIAN
METHOD:PUBLISH
X-WR-CALNAME:AA Sur De La Bahia
X-ORIGINAL-URL:https://aasurdelabahia.org
X-WR-CALDESC:Eventos para AA Sur De La Bahia
REFRESH-INTERVAL;VALUE=DURATION:PT1H
X-Robots-Tag:noindex
X-PUBLISHED-TTL:PT1H
BEGIN:VTIMEZONE
TZID:America/Los_Angeles
BEGIN:DAYLIGHT
TZOFFSETFROM:-0800
TZOFFSETTO:-0700
TZNAME:PDT
DTSTART:20250309T100000
END:DAYLIGHT
BEGIN:STANDARD
TZOFFSETFROM:-0700
TZOFFSETTO:-0800
TZNAME:PST
DTSTART:20251102T090000
END:STANDARD
BEGIN:DAYLIGHT
TZOFFSETFROM:-0800
TZOFFSETTO:-0700
TZNAME:PDT
DTSTART:20260308T100000
END:DAYLIGHT
BEGIN:STANDARD
TZOFFSETFROM:-0700
TZOFFSETTO:-0800
TZNAME:PST
DTSTART:20261101T090000
END:STANDARD
BEGIN:DAYLIGHT
TZOFFSETFROM:-0800
TZOFFSETTO:-0700
TZNAME:PDT
DTSTART:20270314T100000
END:DAYLIGHT
BEGIN:STANDARD
TZOFFSETFROM:-0700
TZOFFSETTO:-0800
TZNAME:PST
DTSTART:20271107T090000
END:STANDARD
END:VTIMEZONE
BEGIN:VEVENT
DTSTART;TZID=America/Los_Angeles:20260418T140000
DTEND;TZID=America/Los_Angeles:20260418T170000
DTSTAMP:20260420T032138
CREATED:20260314T013521Z
LAST-MODIFIED:20260314T013521Z
UID:2427-1776520800-1776531600@aasurdelabahia.org
SUMMARY:La Viña (Taller de Escritura)
DESCRIPTION:Taller de escritura de La Viña se llevará a cabo en el Grupo Camino de Luz de Compton \nAbril-18-2026 de 2:00 a 5:00 pm \n (Habra refrigerio Todos invitados)
URL:https://aasurdelabahia.org/event/la-vina-taller-de-escritura/
LOCATION:Camino de Luz\, 606 E. Rosecransn Ave.\, Compton\, CA\, 90221\, United States
END:VEVENT
END:VCALENDAR